Workbook

Sheet Apa+Canal
A1: COMUNA | B1: LOCALITATE | C1: Preturi [Euro]
C2: Extinderi | D2: Reabilitari | E2: Total
A3: MIHAI VITEAZU | B3: CHEIA | C3: =APA!AH3+CANAL!Z3 -> 1359533.5 | D3: =D4 -> 364622.36 | E3: =C3+D3 -> 1724155.8
D4: =APA!AI4+CANAL!AA4 -> 364622.36
B5: CORNESTI | C5: =APA!AH5+CANAL!Z5 -> 1346112.7 | D5: =D6 -> 228118.95 | E5: =C5+D5 -> 1574231.6
D6: =APA!AI6+CANAL!AA6 -> 228118.95
B7: MIHAI VITEZU | C7: =APA!AH7+CANAL!Z7 -> 183744 | D7: =D8 -> 1807573.1 | E7: =C7+D7 -> 1991317.1
D8: =APA!AI8+CANAL!AA8 -> 1807573.1
A9: Total Mihai Viteazu | C9: =APA!AH9+CANAL!Z9 -> 2889390.2 | D9: =APA!AI9+CANAL!AA9 -> 2400314.4 | E9: =C9+D9 -> 5289704.6
A10: VIISOARA | B10: VIISOARA | C10: =APA!AH10+CANAL!Z10 -> 797930.64 | D10: =D11 -> 0 | E10: =C10+D10 -> 797930.64
C11: =APA!AH11+CANAL!Z11 -> 0 | D11: =APA!AI11+CANAL!AA11 -> 0
B12: URCA | C12: =APA!AH12+CANAL!Z12 -> 1613157.2 | D12: =D13 -> 0 | E12: =C12+D12 -> 1613157.2
C13: =APA!AH13+CANAL!Z13 -> 0 | D13: =APA!AI13+CANAL!AA13 -> 0
A14: Total Viisoara | C14: =APA!AH14+CANAL!Z14 -> 2411087.8 | D14: =APA!AI14+CANAL!AA14 -> 0 | E14: =C14+D14 -> 2411087.8
A15: CALARASI | B15: BOGATA | C15: =APA!AH15+CANAL!Z15 -> 0 | D15: =D16 -> 0 | E15: =C15+D15 -> 0
C16: =APA!AH16+CANAL!Z16 -> 0 | D16: =APA!AI16+CANAL!AA16 -> 0
B17: CALARASI | C17: =APA!AH17+CANAL!Z17 -> 2061333.1 | D17: =D18 -> 0 | E17: =C17+D17 -> 2061333.1
C18: =APA!AH18+CANAL!Z18 -> 0 | D18: =D19 -> 0
B19: CALARASI GARA | C19: =APA!AH19+CANAL!Z19 -> 694750.59 | D19: =D20 -> 0 | E19: =C19+D19 -> 694750.59
C20: =APA!AH20+CANAL!Z20 -> 0 | D20: =APA!AI20+CANAL!AA20 -> 0
A21: Total Calarasi | C21: =APA!AH21+CANAL!Z21 -> 2756083.7 | D21: =APA!AI21+CANAL!AA21 -> 0 | E21: =C21+D21 -> 2756083.7
A22: CAMPIA TURZII | B22: CAMPIA TURZII | C22: =APA!AH22+CANAL!Z22 -> 1509150.2 | D22: =D23 -> 87883.814 | E22: =C22+D22 -> 1597034
C23: =APA!AH23+CANAL!Z23 -> 0 | D23: =APA!AI23+CANAL!AA23 -> 87883.814
A24: Total Campia Turzii | C24: =APA!AH24+CANAL!Z24 -> 1509150.2 | D24: =APA!AI24+CANAL!AA24 -> 87883.814 | E24: =C24+D24 -> 1597034
A25: CEANU MARE | B25: CEANU MARE | C25: =APA!AH25+CANAL!Z25 -> 0 | D25: =D26 -> 0 | E25: =C25+D25 -> 0
C26: =APA!AH26+CANAL!Z26 -> 0 | D26: =APA!AI26+CANAL!AA26 -> 0
B27: IACOBENI | C27: =APA!AH27+CANAL!Z27 -> 0 | D27: =D28 -> 0 | E27: =C27+D27 -> 0
C28: =APA!AH28+CANAL!Z28 -> 0 | D28: =APA!AI28+CANAL!AA28 -> 0
B29: VALEA LUI CATI | C29: =APA!AH29+CANAL!Z29 -> 0 | D29: =D30 -> 0 | E29: =C29+D29 -> 0
C30: =APA!AH30+CANAL!Z30 -> 0 | D30: =APA!AI30+CANAL!AA30 -> 0
B31: BOLDUT | C31: =APA!AH31+CANAL!Z31 -> 0 | D31: =D32 -> 0 | E31: =C31+D31 -> 0
C32: =APA!AH32+CANAL!Z32 -> 0 | D32: =APA!AI32+CANAL!AA32 -> 0
B33: BOIAN | C33: =APA!AH33+CANAL!Z33 -> 0 | D33: =D34 -> 0 | E33: =C33+D33 -> 0
C34: =APA!AH34+CANAL!Z34 -> 0 | D34: =APA!AI34+CANAL!AA34 -> 0
B35: HODAI-BOIAN | C35: =APA!AH35+CANAL!Z35 -> 0 | D35: =D36 -> 0 | E35: =C35+D35 -> 0
C36: =APA!AH36+CANAL!Z36 -> 0 | D36: =APA!AI36+CANAL!AA36 -> 0
A37: Total Ceanu Mare | C37: =APA!AH37+CANAL!Z37 -> 0 | D37: =APA!AI37+CANAL!AA37 -> 0 | E37: =C37+D37 -> 0
A38: SANDULESTI | B38: SANDULESTI | C38: =APA!AH38+CANAL!Z38 -> 1087516.5 | D38: =D39 -> 0 | E38: =C38+D38 -> 1087516.5
C39: =APA!AH39+CANAL!Z39 -> 0 | D39: =APA!AI39+CANAL!AA39 -> 0
B40: COPACENI | C40: =APA!AH40+CANAL!Z40 -> 2159018.8 | D40: =D41 -> 0 | E40: =C40+D40 -> 2159018.8
...

Sheet APA
A1: COMUNA | B1: LOCALITATE | C1: TIP CONDUCTA | D1: LUNGIME / DIAMETRU (UM - m) | T1: LUNGIME / DIAMETRU POMPARE | X1: SP | Y1: ST | Z1: Puturi | AA1: REZERVOR | AB1: Lucrari speciale | AC1: Preturi [Euro] | AH1: Preturi [Euro]
D2: Dn 50 | E2: Dn 63 | F2: Dn 75 | G2: Dn 90 | H2: Dn 110 | I2: Dn 125 | J2: Dn 160 | K2: Dn 200 | L2: Dn 250 | M2: Dn 315 | N2: Dn 350 | O2: Dn 400 | P2: Dn 500 | Q2: Dn 600 | R2: Dn 800 | S2: Dn 1000 | T2: Dn 90 | U2: Dn 110 | V2: Dn 125 | W2: Dn 150 | AC2: Retea | AD2: SP | AE2: ST | AF2: lucrari speciale | AG2: rezervor | AH2: Extinderi | AI2: Reabilitari
A3: MIHAI VITEAZU | B3: CHEIA | C3: EXTINDERE | F3: 1 | AA3: 1 | AC3: 0 | AH3: =AC3+AD3+AE3+AF3+AG3 -> 0
C4: REABILITARE | G4: 3050 | H4: 1750 | I4: 2600 - aductiune 750 - distributie | AC4: =D4*'Pret unitar apa'!I9+APA!E4*'Pret unitar apa'!I10+APA!H4*'Pret unitar apa'!I13+3255*'Pret unitar apa'!I14 -> 364622.36 | AI4: =AC4+AD4+AE4+AF4+AG4 -> 364622.36
B5: CORNESTI | C5: EXTINDERE | G5: 350 | AC5: =G5*'Pret unitar apa'!I12 -> 22784.693 | AH5: =AC5+AD5+AE5+AF5+AG5 -> 22784.693
C6: REABILITARE | G6: 1200 | AA6: 1 X 200 mc | AC6: =G6*'Pret unitar apa'!I12 -> 78118.946 | AG6: 150000 | AI6: =AC6+AD6+AE6+AF6+AG6 -> 228118.95
B7: MIHAI VITEZU | C7: EXTINDERE | H7: 1200 | AC7: =G7*'Pret unitar apa'!I12 -> 0 | AH7: =AC7+AD7+AE7+AF7+AG7 -> 0
C8: REABILITARE | H8: 900 | O8: 6200 - aductiune | AB8: 7 subtra-versari D.N. | AC8: =G8*'Pret unitar apa'!I12+6163*'Pret unitar apa'!I19 -> 1676323.1 | AF8: =7*25*750 -> 131250 | AI8: =AC8+AD8+AE8+AF8+AG8 -> 1807573.1
A9: Total apa Mihai Viteazu | AH9: =AH3+AH5+AH7 -> 22784.693 | AI9: =AI4+AI6+AI8 -> 2400314.4
A10: VIISOARA | B10: VIISOARA | C10: EXTINDERE | F10: 400 | G10: 1200 | J10: 1300 | AC10: =F10*'Pret unitar apa'!I11+APA!G10*'Pret unitar apa'!I12+APA!J10*'Pret unitar apa'!I15 -> 216074.64 | AH10: =AC10+AD10+AE10+AF10+AG10 -> 216074.64
C11: REABILITARE | AC11: 0 | AI11: =AC11+AD11+AE11+AF11+AG11 -> 0
B12: URCA | C12: EXTINDERE | G12: 3400 | H12: 3350 | AC12: =G12*'Pret unitar apa'!I12+APA!H12*'Pret unitar apa'!I13 -> 455799.63 | AH12: =AC12+AD12+AE12+AF12+AG12 -> 455799.63
C13: REABILITARE | AC13: 0 | AI13: =AC13+AD13+AE13+AF13+AG13 -> 0
A14: Total apa Viisoara | AH14: =AH10+AH12 -> 671874.27 | AI14: =AI11+AI13 -> 0
A15: CALARASI | B15: BOGATA | C15: EXTINDERE | F15: 1 | AC15: 0 | AH15: =AC15+AD15+AE15+AF15+AG15 -> 0
C16: REABILITARE | AC16: 0 | AI16: =AC16+AD16+AE16+AF16+AG16 -> 0
B17: CALARASI | C17: EXTINDERE | F17: 1 | AC17: 0 | AH17: =AC17+AD17+AE17+AF17+AG17 -> 0
C18: REABILITARE | AC18: 0 | AI18: =AC18+AD18+AE18+AF18+AG18 -> 0
B19: CALARASI GARA | C19: EXTINDERE | F19: 1 | AC19: 0 | AH19: =AC19+AD19+AE19+AF19+AG19 -> 0
C20: REABILITARE | AC20: 0 | AI20: =AC20+AD20+AE20+AF20+AG20 -> 0
A21: Total apa Calarasi | AH21: =AH15+AH17+AH19 -> 0 | AI21: =AI16+AI18+AI20 -> 0
A22: CAMPIA TURZII | B22: CAMPIA TURZII | C22: EXTINDERE | G22: 6600 | AC22: =G22*'Pret unitar apa'!I12 -> 429654.2 | AH22: =AC22+AD22+AE22+AF22+AG22 -> 429654.2
C23: REABILITARE | G23: 1350 | Q23: 12600 | AC23: =G23*'Pret unitar apa'!I12 -> 87883.814 | AI23: =AC23+AD23+AE23+AF23+AG23 -> 87883.814
A24: Total apa Campia Turzii | AH24: =AH22 -> 429654.2 | AI24: =AI23 -> 87883.814
A25: CEANU MARE | B25: CEANU MARE | C25: EXTINDERE | F25: 1 | Y25: 0 | AC25: 0 | AH25: =AC25+AD25+AE25+AF25+AG25 -> 0
C26: REABILITARE | AC26: 0 | AI26: =AC26+AD26+AE26+AF26+AG26 -> 0
B27: IACOBENI | C27: EXTINDERE | F27: 1 | Y27: 0 | AC27: 0 | AH27: =AC27+AD27+AE27+AF27+AG27 -> 0
C28: REABILITARE | AC28: 0 | AI28: =AC28+AD28+AE28+AF28+AG28 -> 0
B29: VALEA LUI CATI | C29: EXTINDERE | G29: 0 | AC29: 0 | AH29: =AC29+AD29+AE29+AF29+AG29 -> 0
C30: REABILITARE | AC30: 0 | AI30: =AC30+AD30+AE30+AF30+AG30 -> 0
B31: BOLDUT | C31: EXTINDERE | G31: 0 | Y31: 0 | AC31: 0 | AH31: =AC31+AD31+AE31+AF31+AG31 -> 0
C32: REABILITARE | AC32: 0 | AI32: =AC32+AD32+AE32+AF32+AG32 -> 0
B33: BOIAN | C33: EXTINDERE | G33: 0 | H33: 0 | AC33: 0 | AH33: =AC33+AD33+AE33+AF33+AG33 -> 0
C34: REABILITARE | AC34: 0 | AI34: =AC34+AD34+AE34+AF34+AG34 -> 0
B35: HODAI-BOIAN | C35: EXTINDERE | G35: 0 | AC35: 0 | AH35: =AC35+AD35+AE35+AF35+AG35 -> 0
C36: REABILITARE | AC36: 0 | AI36: =AC36+AD36+AE36+AF36+AG36 -> 0
A37: Total apa Ceanu Mare | AH37: =AH25+AH27+AH29+AH31+AH33+AH35 -> 0 | AI37: =AI26+AI28+AI30+AI32+AI34+AI36 -> 0
A38: SANDULESTI | B38: SANDULESTI | C38: EXTINDERE | F38: 1 | AC38: 0 | AH38: =AC38+AD38+AE38+AF38+AG38 -> 0
C39: REABILITARE | AC39: 0 | AI39: =AC39+AD39+AE39+AF39+AG39 -> 0
B40: COPACENI | C40: EXTINDERE | F40: 1 | AC40: 0 | AH40: =AC40+AD40+AE40+AF40+AG40 -> 0
...

Sheet CANAL
A1: COMUNA | B1: LOCALITATE | C1: TIP CONDUCTA | D1: LUNGIME / DIAMETRU (UM - m) | M1: LUNGIME / DIAMETRU POMPARE | S1: SP | T1: SE | U1: Lucrari speciale | V1: Preturi [Euro] | Z1: Preturi [Euro]
D2: Dn 200 | E2: Dn 250 | F2: Dn 315 | G2: Dn 350 | H2: Dn 400 | I2: Dn 500 | J2: Dn 600 | K2: Dn 800 | L2: Dn 100 | M2: Dn 90 | N2: Dn 110 | O2: Dn 125 | P2: Dn 150 | Q2: Dn 200 | R2: Dn 250 | V2: Retea | W2: SP | X2: SE | Y2: lucrari speciale | Z2: Extinderi | AA2: Reabilitari
A3: MIHAI VITEAZU | B3: CHEIA | C3: EXTINDERE | E3: 8250 | M3: 450 | N3: 100 | S3: 4 | V3: =E3*'Pret unitar canal'!D8+CANAL!M3*'Pret unitar apa'!I12+CANAL!N3*'Pret unitar apa'!I13 -> 1299533.5 | W3: =S3*15000 -> 60000 | Z3: =V3+W3+X3+Y3 -> 1359533.5
C4: REABILITARE | V4: 0 | AA4: =V4+W4+X4+Y4 -> 0
B5: CORNESTI | C5: EXTINDERE | E5: 8200 | F5: 400 | V5: =E5*'Pret unitar canal'!D8+CANAL!F5*'Pret unitar canal'!D9 -> 1323328 | Z5: =V5+W5+X5+Y5 -> 1323328
C6: REABILITARE | V6: 0 | AA6: =V6+W6+X6+Y6 -> 0
B7: MIHAI VITEZU | C7: EXTINDERE | E7: 1200 | V7: =E7*'Pret unitar canal'!D8 -> 183744 | Z7: =V7+W7+X7+Y7 -> 183744
C8: REABILITARE | V8: 0 | Z8: =V8+W8+X8+Y8 -> 0 | AA8: =V8+W8+X8+Y8 -> 0
A9: Total canal Mihai Viteazu | Z9: =Z3+Z5+Z7 -> 2866605.5 | AA9: =AA4+AA6+AA8 -> 0
A10: VIISOARA | B10: VIISOARA | C10: EXTINDERE | E10: 3800 | V10: =E10*'Pret unitar canal'!D8 -> 581856 | Z10: =V10+W10+X10+Y10 -> 581856
C11: REABILITARE | V11: 0 | AA11: =V11+W11+X11+Y11 -> 0
B12: URCA | C12: EXTINDERE | E12: 7150 | M12: 500 | S12: 2 | V12: =E12*'Pret unitar canal'!D8+CANAL!F12*'Pret unitar canal'!D9+CANAL!M12*'Pret unitar apa'!I12 -> 1127357.6 | W12: =S12*15000 -> 30000 | Z12: =V12+W12+X12+Y12 -> 1157357.6
C13: REABILITARE | V13: 0 | AA13: =V13+W13+X13+Y13 -> 0
A14: Total canal Viisoara | Z14: =Z10+Z12 -> 1739213.6 | AA14: =AA11+AA13 -> 0
A15: CALARASI | B15: BOGATA | C15: EXTINDERE | D15: 1 | V15: 0 | Z15: =V15+W15+X15+Y15 -> 0
C16: REABILITARE | V16: 0 | AA16: =V16+W16+X16+Y16 -> 0
B17: CALARASI | C17: EXTINDERE | E17: 11700 | F17: 1150 | M17: 1200 | S17: 5 | V17: =E17*'Pret unitar canal'!D8+CANAL!F17*'Pret unitar canal'!D9+'Pret unitar apa'!I12 -> 1986333.1 | W17: =S17*15000 -> 75000 | Z17: =V17+W17+X17+Y17 -> 2061333.1
C18: REABILITARE | V18: 0 | AA18: =V18+W18+X18+Y18 -> 0
B19: CALARASI GARA | C19: EXTINDERE | E19: 2100 | F19: 1500 | M19: 1600 | S19: 1 | V19: =E19*'Pret unitar canal'!D8+CANAL!F19*'Pret unitar canal'!D9+CANAL!M19*'Pret unitar apa'!I12 -> 679750.59 | W19: =S19*15000 -> 15000 | Z19: =V19+W19+X19+Y19 -> 694750.59
C20: REABILITARE | V20: 0 | AA20: =V20+W20+X20+Y20 -> 0
A21: Total canal Calarasi | Z21: =Z15+Z17+Z19 -> 2756083.7
A22: CAMPIA TURZII | B22: CAMPIA TURZII | C22: EXTINDERE | E22: 7050 | V22: =E22*'Pret unitar canal'!D8 -> 1079496 | Z22: =V22+W22+X22+Y22 -> 1079496
C23: REABILITARE | V23: 0 | AA23: =V23+W23+X23+Y23 -> 0
A24: Total canal Campia Turzii | Z24: =Z22 -> 1079496 | AA24: =AA23 -> 0
A25: CEANU MARE | B25: CEANU MARE | C25: EXTINDERE | E25: 0 | M25: 0 | S25: 0 | V25: =E25*'Pret unitar canal'!D8+CANAL!M25*'Pret unitar apa'!I12 -> 0 | W25: =S25*15000 -> 0 | Z25: =V25+W25+X25+Y25 -> 0
C26: REABILITARE | V26: 0 | AA26: =V26+W26+X26+Y26 -> 0
B27: IACOBENI | C27: EXTINDERE | E27: 0 | M27: 0 | S27: 0 | V27: =E27*'Pret unitar canal'!D8+CANAL!M27*'Pret unitar apa'!I12 -> 0 | W27: =S27*15000 -> 0 | Z27: =V27+W27+X27+Y27 -> 0
C28: REABILITARE | V28: 0 | AA28: =V28+W28+X28+Y28 -> 0
B29: VALEA LUI CATI | C29: EXTINDERE | E29: 0 | M29: 0 | S29: 0 | V29: =E29*'Pret unitar canal'!D8+CANAL!M29*'Pret unitar apa'!I12 -> 0 | W29: =S29*15000 -> 0 | Z29: =V29+W29+X29+Y29 -> 0
C30: REABILITARE | V30: 0 | AA30: =V30+W30+X30+Y30 -> 0
B31: BOLDUT | C31: EXTINDERE | E31: 0 | F31: 0 | M31: 0 | S31: 0 | T31: 0 | V31: =E31*'Pret unitar canal'!D8+CANAL!F31*'Pret unitar canal'!G9+CANAL!M31*'Pret unitar apa'!I12 -> 0 | W31: =S31*15000 -> 0 | X31: =T31*'Pret statii de epurare'!D12 -> 0 | Z31: =V31+W31+X31+Y31 -> 0
C32: REABILITARE | V32: 0 | AA32: =V32+W32+X32+Y32 -> 0
B33: BOIAN | C33: EXTINDERE | E33: 0 | F33: 0 | M33: 0 | S33: 0 | V33: =E33*'Pret unitar canal'!D8+CANAL!F33*'Pret unitar canal'!D9+CANAL!M33*'Pret unitar apa'!I12 -> 0 | W33: =S33*15000 -> 0 | Z33: =V33+W33+X33+Y33 -> 0
C34: REABILITARE | V34: 0 | AA34: =V34+W34+X34+Y34 -> 0
B35: HODAI-BOIAN | C35: EXTINDERE | E35: 0 | M35: 0 | S35: 0 | V35: =E35*'Pret unitar canal'!D8+CANAL!M35*'Pret unitar apa'!I12 -> 0 | W35: =S35*15000 -> 0 | Z35: =V35+W35+X35+Y35 -> 0
C36: REABILITARE | V36: 0 | AA36: =V36+W36+X36+Y36 -> 0
A37: Total canal Ceanu Mare | Z37: =Z25+Z27+Z29+Z31+Z33+Z35 -> 0 | AA37: =AA26+AA28+AA30+AA32+AA34+AA36 -> 0
A38: SANDULESTI | B38: SANDULESTI | C38: EXTINDERE | E38: 5400 | M38: 1700 | S38: 10 | V38: =E38*'Pret unitar canal'!D8+CANAL!M38*'Pret unitar apa'!I12 -> 937516.51 | W38: =S38*15000 -> 150000 | Z38: =V38+W38+X38+Y38 -> 1087516.5
C39: REABILITARE | V39: 0 | AA39: =V39+W39+X39+Y39 -> 0
B40: COPACENI | C40: EXTINDERE | E40: 13700 | M40: 250 | S40: 3 | V40: =E40*'Pret unitar canal'!D8+CANAL!M40*'Pret unitar apa'!I12 -> 2114018.8 | W40: =S40*15000 -> 45000 | Z40: =V40+W40+X40+Y40 -> 2159018.8
...

Sheet Pret unitar apa
B3: Diametru exterior | C3: Grosimea peretelui | D3: Terasamente | E3: Pret conducta +fiting | F3: Total | G3: Total | H3: Desfacere si ref. drum/ml | I3: Total general
C4: mm | D4: H=1,20 | I4: Euro
B5: 20 | C5: 2 | D5: 21.5 | E5: 0.41 | F5: 22 | G5: =F5*1.1614534 -> 25.551975 | H5: 30 | I5: =G5+H5 -> 55.551975
B6: 25 | C6: 2.3 | D6: 21.2 | E6: 0.715 | F6: 22.21 | G6: =F6*1.1614534 -> 25.79588 | H6: 30 | I6: =G6+H6 -> 55.79588
B7: 32 | C7: 3 | D7: 21.5 | E7: 1.8 | F7: 23.3 | G7: =F7*1.1614534 -> 27.061864 | H7: 30 | I7: =G7+H7 -> 57.061864
B8: 40 | C8: 3 | D8: 21.5 | E8: 2.57 | F8: 24.07 | G8: =F8*1.1614534 -> 27.956183 | H8: 30 | I8: =G8+H8 -> 57.956183
B9: 50 | C9: 3.7 | D9: 21.5 | E9: 2.73 | F9: 24.23 | G9: =F9*1.1614534 -> 28.142016 | H9: 30 | I9: =G9+H9 -> 58.142016
B10: 63 | C10: 4.7 | D10: 21.5 | E10: 4.32 | F10: 25.82 | G10: =F10*1.1614534 -> 29.988727 | H10: 30 | I10: =G10+H10 -> 59.988727
B11: 75 | C11: 5.5 | D11: 21.5 | E11: 6.039 | F11: 27.53 | G11: =F11*1.1614534 -> 31.974812 | H11: 30 | I11: =G11+H11 -> 61.974812
B12: 90 | C12: 6.6 | D12: 21.5 | E12: 8.72 | F12: 30.22 | G12: =F12*1.1614534 -> 35.099122 | H12: 30 | I12: =G12+H12 -> 65.099122
B13: 110 | C13: 8.1 | D13: 21.5 | E13: 12.93 | F13: 34.43 | G13: =F13*1.1614534 -> 39.988841 | H13: 30 | I13: =G13+H13 -> 69.988841
B14: 125 | C14: 9.2 | D14: 21.5 | E14: 16.72 | F14: 38.22 | G14: =F14*1.1614534 -> 44.390749 | H14: 30 | I14: =G14+H14 -> 74.390749
B15: 160 | C15: 11.8 | D15: 21.5 | E15: 27.62 | F15: 49.12 | G15: =F15*1.1614534 -> 57.050591 | H15: 30 | I15: =G15+H15 -> 87.050591
B16: 200 | C16: 14.7 | D16: 21.5 | E16: 42.73 | F16: 64.23 | G16: =F16*1.1614534 -> 74.600152 | H16: 30 | I16: =G16+H16 -> 104.60015
... B21: 630 | C21: 46.4 | D21: 43 | E21: 424.32 | F21: 467.32 | G21: =F21*1.1614534 -> 542.7704 | H21: 48 | I21: =G21+H21 -> 590.7704

Sheet Pret unitar canal
A4: TIP CONDUCTA | B4: Adincime | C4: Adincime | D4: Adincime | E4: Adincime | F4: Adincime | G4: Adincime
B5: 2m | C5: 3m | D5: 3m | E5: 4m | F5: 5m | G5: 6m
A6: PVC DN150 | B6: 85 | C6: 106 | D6: =C6*1.16 -> 122.96 | E6: 128 | F6: 150 | G6: 173
A7: PVC DN200 | B7: 95 | C7: 118 | D7: =C7*1.16 -> 136.88 | E7: 142 | F7: 166 | G7: 189
A8: PVC DN250 | B8: 106 | C8: 132 | D8: =C8*1.16 -> 153.12 | E8: 156 | F8: 182 | G8: 207
A9: PVC DN300 | B9: 120 | C9: 146 | D9: =C9*1.16 -> 169.36 | E9: 173 | F9: 200 | G9: 226
A10: PVC DN400 | B10: 159 | C10: 179 | D10: =C10*1.16 -> 207.64 | E10: 209 | F10: 238 | G10: 268
A11: PVC DN500 | B11: 185 | C11: 217 | D11: =C11*1.16 -> 251.72 | E11: 250 | F11: 282 | G11: 315
A12: PVC DN600 | B12: 208 | C12: 244 | D12: =C12*1.16 -> 283.04 | E12: 280 | F12: 315 | G12: 351
A13: PVC DN700 | B13: 170 | C13: 206 | D13: =C13*1.16 -> 238.96 | E13: 243 | F13: 278 | G13: 324
A14: PVC DN800 | B14: 194 | C14: 236 | D14: =C14*1.16 -> 273.76 | E14: 210 | F14: 309 | G14: 360
A15: PVC DN900 | B15: 223 | C15: 267 | D15: =C15*1.16 -> 309.72 | E15: 278 | F15: 356 | G15: 401
A16: PVCDN1000 | B16: 252 | C16: 299 | D16: =C16*1.16 -> 346.84 | E16: 347 | F16: 394 | G16: 442
A17: PVCDN1250 | B17: 359 | C17: 418 | D17: =C17*1.16 -> 484.88 | E17: 478 | F17: 554 | G17: 592

Sheet PretSP Apa+Canal+Puturi +ST+Rez
A2: Statii de pompare apa potabila containerizata | E2: Statie de pompare ape uzate
A4: Cu 1+1 pompe | B4: 45000 | C4: Euro/buc. | E4: Cu 1+1 pompe | G4: 65000 | H4: Euro/buc.
A5: Cu 2+1 pompe | B5: 65000 | C5: Euro/buc. | E5: Cu 2+1 pompe | G5: 70000 | H5: Euro/buc.
A9: Pret puturi forate de medie adincime | E9: Statii de tratare apa din foraje ( dezinfectie + debitmetrie )
A10: Pana la 10 kW | B10: 20000 | C10: Euro/buc. | E10: Q max. 3l/s | G10: 27000 | H10: Euro/buc.
E11: Q max. 5 l/s | G11: 30000 | H11: Euro/buc.
E12: Q max. 8 l/s | G12: 35000 | H12: Euro/buc.
E13: Q max. 10 l/s | G13: 40000 | H13: Euro/buc.
E14: Q max. 15 l/s | G14: 42000 | H14: Euro/buc.
E16: Statii de tratare apa de suprafata
E17: Q max. 15 l/s | G17: 165000 | H17: Euro/buc.
E18: Q max. 30 l/s | G18: 225000 | H18: Euro/buc.
A20: Rezervoare metalice pentru apa | E20: Statii de epurare
A21: V=80 mc | B21: 90000 | C21: Euro/buc. | E21: 250 ELS
A22: V=100 mc | B22: 95000 | C22: Euro/buc. | E22: 300 ELS
A23: V=150 mc | B23: 125000 | C23: Euro/buc. | E23: 350 ELS
A24: V= 200 mc | B24: 150000 | C24: Euro/buc. | E24: 500 ELS
A25: V=250 mc | B25: 175000 | C25: Euro/buc. | E25: 750 ELS

Sheet Pret statii de epurare
B3: Populaţii echivalente [ELS] | C3: Val./ELS | D3: Investiţii pentru staţii de epurare ape uzate Euro
B4: 250 | C4: 350 | D4: =C4*B4 -> 87500
B5: 300 | C5: 342 | D5: =C5*B5 -> 102600
B6: 350 | C6: 335 | D6: =C6*B6 -> 117250
B7: 500 | C7: 330 | D7: =C7*B7 -> 165000
B8: 750 | C8: 325 | D8: =C8*B8 -> 243750
B9: 1000 | C9: 319 | D9: 319000
B10: 2000 | C10: 263 | D10: 526000
B11: 3000 | C11: 235 | D11: 705000
B12: 4000 | C12: 216 | D12: 864000
B13: 5000 | C13: 204 | D13: 1020000
B14: 6000 | C14: 190 | D14: 1140000
B15: 7000 | C15: 182 | D15: 1274000
B16: 8000 | C16: 175 | D16: 1400000
B17: 9000 | C17: 171 | D17: 1539000
B18: 10000 | C18: 168 | D18: 1680000
B19: 15000 | C19: 150 | D19: 2250000
B20: 20000 | C20: 138 | D20: 2760000
B21: 25000 | C21: 125 | D21: 3125000

Sheet Anexa 7.1
A1: Planul de investiții pe termen lung
A2: Costuri de investiții pe faze și aglomerări
A4: Nr. crt. | B4: Descriere | C4: Costuri totale ( € ) | D4: Faza 2* Fonduri de coeziune 2014-2020 ( € ) | E4: Faza 2* Alte fonduri 2014-2020 ( € ) | F4: Fazele următoare* După 2020 ( € ) | G4: Sursa de finanțare
G5: FC (€) | H5: Altele (€)
A7: 1 | B7: ='Anexa 7.3'!G4 -> 1. BUDEȘTI | C7: =SUM(C8:C9) -> 7786973 | D7: =SUM(D8:D9) -> 4507973 | E7: =SUM(E8:E9) -> 3279000 | F7: =SUM(F8:F9) -> 0 | J7: `
A8: 1.1 | B8: Alimentare cu apa | C8: ='Anexa 7.3'!K18 -> 4507973 | D8: ='Anexa 7.3'!L18 -> 4507973 | E8: ='Anexa 7.3'!M18 -> 0 | F8: ='Anexa 7.3'!N18 -> 0
A9: 1.2 | B9: Apa uzata | C9: ='Anexa 7.3'!K29 -> 3279000 | D9: ='Anexa 7.3'!L29 -> 0 | E9: ='Anexa 7.3'!M29 -> 3279000 | F9: ='Anexa 7.3'!N29 -> 0
A10: 2 | B10: MICEȘTII DE CÂMPIE | C10: =SUM(C11:C12) -> 4222907 | D10: =SUM(D11:D12) -> 2503907 | E10: =SUM(E11:E12) -> 1719000 | F10: =SUM(F11:F12) -> 0
A11: 2.1 | B11: Alimentare cu apa | C11: ='Anexa 7.3'!K46 -> 2503907 | D11: ='Anexa 7.3'!L46 -> 2503907 | E11: ='Anexa 7.3'!M46 -> 0 | F11: ='Anexa 7.3'!N46 -> 0
A12: 2.2 | B12: Apa uzata | C12: ='Anexa 7.3'!K56 -> 1719000 | D12: ='Anexa 7.3'!L56 -> 0 | E12: ='Anexa 7.3'!M56 -> 1719000 | F12: ='Anexa 7.3'!N56 -> 0
A13: 3 | B13: SÂNMIHAIU DE CÂMPIE | C13: =SUM(C14:C15) -> 5924214 | D13: =SUM(D14:D15) -> 3422714 | E13: =SUM(E14:E15) -> 2501500 | F13: =SUM(F14:F15) -> 0
A14: 3.1 | B14: Alimentare cu apa | C14: ='Anexa 7.3'!K74 -> 3422714 | D14: ='Anexa 7.3'!L74 -> 3422714 | E14: ='Anexa 7.3'!M74 -> 0 | F14: ='Anexa 7.3'!N74 -> 0
A15: 3.2 | B15: Apa uzata | C15: ='Anexa 7.3'!K84 -> 2501500 | D15: ='Anexa 7.3'!L84 -> 0 | E15: ='Anexa 7.3'!M84 -> 2501500 | F15: ='Anexa 7.3'!N84 -> 0
A16: 4 | B16: MATEI | C16: =SUM(C17:C18) -> 6315400 | D16: =SUM(D17:D18) -> 1935700 | E16: =SUM(E17:E18) -> 4379700 | F16: =SUM(F17:F18) -> 0
A17: 4.1 | B17: Alimentare cu apa | C17: ='Anexa 7.3'!K107 -> 1935700 | D17: ='Anexa 7.3'!L107 -> 1935700 | E17: ='Anexa 7.3'!M107 -> 0 | F17: ='Anexa 7.3'!N107 -> 0
A18: 4.2 | B18: Apa uzata | C18: ='Anexa 7.3'!K121 -> 4379700 | D18: ='Anexa 7.3'!L121 -> 0 | E18: ='Anexa 7.3'!M121 -> 4379700 | F18: ='Anexa 7.3'!N121 -> 0
A19: 5 | B19: LECHINȚA | C19: =SUM(C20:C21) -> 7016200 | D19: =SUM(D20:D21) -> 3717700 | E19: =SUM(E20:E21) -> 3298500 | F19: =SUM(F20:F21) -> 0
A20: 5.1 | B20: Alimentare cu apa | C20: ='Anexa 7.3'!K142 -> 2379200 | D20: ='Anexa 7.3'!L142 -> 2203200 | E20: ='Anexa 7.3'!M142 -> 176000 | F20: ='Anexa 7.3'!N142 -> 0
A21: 5.2 | B21: Apa uzata | C21: ='Anexa 7.3'!K159 -> 4637000 | D21: ='Anexa 7.3'!L159 -> 1514500 | E21: ='Anexa 7.3'!M159 -> 3122500 | F21: ='Anexa 7.3'!N159 -> 0
A22: 6 | B22: TEACA | C22: =SUM(C23:C24) -> 11527317 | D22: =SUM(D23:D24) -> 5855117 | E22: =SUM(E23:E24) -> 5672200 | F22: =SUM(F23:F24) -> 0
A23: 6.1 | B23: Alimentare cu apa | C23: ='Anexa 7.3'!K195 -> 4463717 | D23: ='Anexa 7.3'!L195 -> 4463717 | E23: ='Anexa 7.3'!M195 -> 0 | F23: ='Anexa 7.3'!N195 -> 0
A24: 6.2 | B24: Apa uzata | C24: ='Anexa 7.3'!K213 -> 7063600 | D24: ='Anexa 7.3'!L213 -> 1391400 | E24: ='Anexa 7.3'!M213 -> 5672200 | F24: ='Anexa 7.3'!N213 -> 0
A25: 7 | B25: MILAȘ | C25: =SUM(C26:C27) -> 2561860 | D25: =SUM(D26:D27) -> 1676060 | E25: =SUM(E26:E27) -> 885800 | F25: =SUM(F26:F27) -> 0
A26: 7.1 | B26: Alimentare cu apa | C26: ='Anexa 7.3'!K235 -> 1676060 | D26: ='Anexa 7.3'!L235 -> 1676060 | E26: ='Anexa 7.3'!M235 -> 0 | F26: ='Anexa 7.3'!N235 -> 0
A27: 7.2 | B27: Apa uzata | C27: ='Anexa 7.3'!K243 -> 885800 | D27: ='Anexa 7.3'!L243 -> 0 | E27: ='Anexa 7.3'!M243 -> 885800 | F27: ='Anexa 7.3'!N243 -> 0
A28: 8 | B28: CHIOCHIȘ | C28: =SUM(C29:C30) -> 5888600 | D28: =SUM(D29:D30) -> 2475500 | E28: =SUM(E29:E30) -> 3413100 | F28: =SUM(F29:F30) -> 0
A29: 8.1 | B29: Alimentare cu apa | C29: ='Anexa 7.3'!K268 -> 2923500 | D29: ='Anexa 7.3'!L268 -> 2475500 | E29: ='Anexa 7.3'!M268 -> 448000 | F29: ='Anexa 7.3'!N268 -> 0
A30: 8.2 | B30: Apa uzata | C30: ='Anexa 7.3'!K285 -> 2965100 | D30: ='Anexa 7.3'!L285 -> 0 | E30: ='Anexa 7.3'!M285 -> 2965100 | F30: ='Anexa 7.3'!N285 -> 0
A31: 9 | B31: MĂRIȘELU | C31: =SUM(C32:C33) -> 4895900 | D31: =SUM(D32:D33) -> 2416000 | E31: =SUM(E32:E33) -> 2479900 | F31: =SUM(F32:F33) -> 0
A32: 9.1 | B32: Alimentare cu apa | C32: ='Anexa 7.3'!K311 -> 2592000 | D32: ='Anexa 7.3'!L311 -> 2416000 | E32: ='Anexa 7.3'!M311 -> 176000 | F32: ='Anexa 7.3'!N311 -> 0
A33: 9.2 | B33: Apa uzata | C33: ='Anexa 7.3'!K324 -> 2303900 | D33: ='Anexa 7.3'!L324 -> 0 | E33: ='Anexa 7.3'!M324 -> 2303900 | F33: ='Anexa 7.3'!N324 -> 0
A34: 10 | B34: GALAȚII BISTRIȚEI | C34: =SUM(C35:C36) -> 3025100 | D34: =SUM(D35:D36) -> 0 | E34: =SUM(E35:E36) -> 3025100 | F34: =SUM(F35:F36) -> 0
A35: 10.1 | B35: Alimentare cu apa | C35: ='Anexa 7.3'!K77 -> 0 | D35: 0 | E35: 0 | F35: 0
A36: 10.2 | B36: Apa uzata | C36: ='Anexa 7.3'!K342 -> 3025100 | D36: ='Anexa 7.3'!L342 -> 0 | E36: ='Anexa 7.3'!M342 -> 3025100 | F36: ='Anexa 7.3'!N342 -> 0
A37: 11 | B37: BISTRIȚA BÂRGĂULUI | C37: =SUM(C38:C39) -> 5114668 | D37: =SUM(D38:D39) -> 5114668 | E37: =SUM(E38:E39) -> 0 | F37: =SUM(F38:F39) -> 0
A38: 11.1 | B38: Alimentare cu apa | C38: ='Anexa 7.3'!K364 -> 1918000 | D38: ='Anexa 7.3'!L364 -> 1918000 | E38: ='Anexa 7.3'!M364 -> 0 | F38: ='Anexa 7.3'!N364 -> 0
A39: 11.2 | B39: Apa uzata | C39: ='Anexa 7.3'!K377 -> 3196668 | D39: ='Anexa 7.3'!L377 -> 3196668 | E39: ='Anexa 7.3'!M377 -> 0 | F39: ='Anexa 7.3'!N377 -> 0
A40: 12 | B40: ='Anexa 7.3'!G381 -> 12. TIHA BÂRGĂULUI | C40: =C41+C42 -> 8212600 | D40: =D41+D42 -> 8212600 | E40: =E41+E42 -> 0 | F40: =F41+F42 -> 0
A41: 12.1 | B41: Alimentare cu apa | C41: ='Anexa 7.3'!K394 -> 2829600 | D41: ='Anexa 7.3'!L394 -> 2829600 | E41: ='Anexa 7.3'!M394 -> 0 | F41: ='Anexa 7.3'!N394 -> 0
A42: 12.2 | B42: Apa uzata | C42: ='Anexa 7.3'!K404 -> 5383000 | D42: ='Anexa 7.3'!L404 -> 5383000 | E42: ='Anexa 7.3'!M404 -> 0 | F42: ='Anexa 7.3'!N404 -> 0
...

Sheet Anexa 7.2 
A2: Planul de investitii pe termen lung
A3: Costuri totale de investitii pe categorii de cost pentru toate aglomerarile
A5: Nr. crt. | B5: Descriere | C5: Cost Total ( € ) | D5: Budești (€) | E5: Miceștii de Câmpie (€) | F5: Sânmihaiu de Câmpie (€) | G5: Matei (€) | H5: Lechința ( € ) | I5: Teaca ( € ) | J5: Milaș (€) | K5: Chiochiș (€) | L5: Mărișelu (€) | M5: Galații Bistriței ( € ) | N5: Bistrița Bârgăului (€) | O5: Tiha Bârgăului (€) | P5: Josenii Bârgăului (€) | Q5: Livezile ( € ) | R5: Municipiul Bistrița (€) | S5: Șieu (€) | T5: Șieuț (€) | U5: Maieru (€) | V5: Rodna (€) | W5: Oraș Sângeorz - Băi (€) | X5: Oraș Năsăud (€) | Y5: Poiana Ilvei (€) | Z5: Ilva Mică (€) | AA5: Budacu de Jos ( € ) | AB5: Petru Rareș (€) | AC5: Ciceu Mihăești (€) | AD5: Cetate ( € ) | AE5: Nușeni ( € ) | AF5: Șieu Măgheruș ( € ) | AG5: Șintereag ( € ) | AH5: Oraș Beclean (€) | AI5: Braniștea (€) | AJ5: Chiuza (€) | AK5: Uriu (€) | AL5: Dumitrița (€) | AM5: Prundu Bârgăului (€) | AN5: Rebrișoara (€) | AO5: Feldru (€) | AP5: Slava (€) | AQ5: Căianu Mic (€) | AR5: Ciceu - Giurgești (€) | AS5: Coșbuc (€) | AT5: Ilva Mare (€) | AU5: Leșu (€) | AV5: Lunca Ilvei (€) | AW5: Negrilești (€) | AX5: Nimigea (€) | AY5: Rebra (€) | AZ5: Runcu Salvei (€) | BA5: Spermezeu (€) | BB5: Șieu - Odorhei (€) | BC5: Telciu (€) | BD5: Târlișua (€) | BE5: Zagra (€) | BF5: Dumitra (€) | BG5: Măgura Ilvei (€) | BH5: Parva (€) | BI5: Monor - in afata ADI (€) | BJ5: Silivașul de Câmpie - ADI Mureș (€) | BK5: Urmeniș (€)
A6: 1 | B6: ALIMENTARE CU APĂ
A7: 1.1 | B7: Captare apă | C7: =SUM(D7:BK7) -> 8177000 | H7: ='Anexa 7.3'!K138 -> 89000 | K7: ='Anexa 7.3'!K251+'Anexa 7.3'!K255 -> 267000 | L7: ='Anexa 7.3'!K306 -> 89000 | N7: =SUM('Anexa 7.3'!K350:K352) -> 725000 | Q7: ='Anexa 7.3'!K442 -> 125000 | R7: ='Anexa 7.3'!L467 -> 250000 | S7: ='Anexa 7.3'!K548 -> 89000 | W7: ='Anexa 7.3'!K629 -> 300000 | X7: ='Anexa 7.3'!K653 -> 1000000 | AC7: ='Anexa 7.3'!L780+'Anexa 7.3'!L784 -> 250000 | AH7: =SUM('Anexa 7.3'!L807:L813) -> 3570000 | AJ7: ='Anexa 7.3'!K953 -> 89000 | AK7: ='Anexa 7.3'!K968 -> 89000 | AU7: ='Anexa 7.3'!K1171 -> 300000 | BA7: ='Anexa 7.3'!K1296+'Anexa 7.3'!K1310 -> 214000 | BC7: ='Anexa 7.3'!K1357 -> 125000 | BD7: ='Anexa 7.3'!K1383+'Anexa 7.3'!K1388+'Anexa 7.3'!K1391+'Anexa 7.3'!K1394 -> 392000 | BE7: ='Anexa 7.3'!K1421+'Anexa 7.3'!K1427 -> 214000
A8: 1.2 | B8: Stație tratare apa | C8: =SUM(D8:BK8) -> 12652667 | I8: ='Anexa 7.3'!K167 -> 101167 | N8: =SUM('Anexa 7.3'!K353:K353) -> 35000 | R8: ='Anexa 7.3'!K468+'Anexa 7.3'!K469+'Anexa 7.3'!K470+'Anexa 7.3'!K471 -> 2360000 | T8: ='Anexa 7.3'!K576 -> 0 | U8: ='Anexa 7.3'!K600 -> 0 | V8: ='Anexa 7.3'!K618 -> 2700000 | X8: ='Anexa 7.3'!K654+'Anexa 7.3'!K655 -> 5300000 | AH8: ='Anexa 7.3'!K814 -> 1730000 | BA8: ='Anexa 7.3'!K1297 -> 300000 | BC8: ='Anexa 7.3'!K1359 -> 46500 | BH8: ='Anexa 7.3'!K1494 -> 50000 | BI8: ='Anexa 7.3'!K1511 -> 30000
A9: 1.3 | B9: Aducțiuni apa | C9: =SUM(D9:BK9) -> 22982970 | D9: ='Anexa 7.3'!K8 -> 917280 | E9: ='Anexa 7.3'!K37 -> 795600 | F9: ='Anexa 7.3'!K64 -> 903474 | G9: ='Anexa 7.3'!K92+'Anexa 7.3'!K93+'Anexa 7.3'!K97+'Anexa 7.3'!K98+'Anexa 7.3'!K101 -> 581600 | H9: ='Anexa 7.3'!K132 -> 1232000 | I9: =SUM('Anexa 7.3'!K168:K172) -> 1421396 | J9: =SUM('Anexa 7.3'!K221:K222)+'Anexa 7.3'!K223 -> 928600 | K9: ='Anexa 7.3'!K260+'Anexa 7.3'!K265 -> 360400 | L9: ='Anexa 7.3'!K293+'Anexa 7.3'!K297+'Anexa 7.3'!K301+'Anexa 7.3'!K307 -> 955200 | O9: ='Anexa 7.3'!K386 -> 612000 | P9: ='Anexa 7.3'!K415 -> 166400 | Q9: ='Anexa 7.3'!K438 -> 153600 | R9: =SUM('Anexa 7.3'!K472) -> 7110000 | S9: ='Anexa 7.3'!K551+'Anexa 7.3'!K553 -> 237000 | T9: ='Anexa 7.3'!K577 -> 0 | U9: ='Anexa 7.3'!K601 -> 1106000 | X9: ='Anexa 7.3'!K656+'Anexa 7.3'!K657+'Anexa 7.3'!K658 -> 900000 | AA9: ='Anexa 7.3'!K724+'Anexa 7.3'!K725+'Anexa 7.3'!K732+'Anexa 7.3'!K733 -> 515200 | AC9: ='Anexa 7.3'!K781+'Anexa 7.3'!K785 -> 61200 | AF9: ='Anexa 7.3'!K886 -> 44800 | AL9: ='Anexa 7.3'!K986 -> 517000 | AN9: ='Anexa 7.3'!K1020 -> 204000 | AQ9: ='Anexa 7.3'!K1091 -> 306000 | AR9: ='Anexa 7.3'!K1118 -> 408000 | AU9: ='Anexa 7.3'!K1172 -> 68000 | AW9: ='Anexa 7.3'!K1209+'Anexa 7.3'!K1212 -> 1333860 | AX9: ='Anexa 7.3'!K1237 -> 78000 | BA9: ='Anexa 7.3'!K1298+'Anexa 7.3'!K1299+'Anexa 7.3'!K1300+'Anexa 7.3'!K1307 -> 707200 | BC9: ='Anexa 7.3'!K1358 -> 32480 | BE9: ='Anexa 7.3'!K1422+'Anexa 7.3'!K1428 -> 271000 | BI9: ='Anexa 7.3'!K1512+'Anexa 7.3'!K1517 -> 55680
A10: 1.4 | B10: Stație pompare | C10: =SUM(D10:BK10) -> 3337921 | D10: ='Anexa 7.3'!K9 -> 407713 | E10: ='Anexa 7.3'!K38 -> 16000 | F10: ='Anexa 7.3'!K65 -> 80000 | G10: ='Anexa 7.3'!K94+'Anexa 7.3'!K102 -> 140000 | H10: ='Anexa 7.3'!K133+'Anexa 7.3'!K134 -> 130000 | I10: ='Anexa 7.3'!K173+'Anexa 7.3'!K174+'Anexa 7.3'!K175 -> 184000 | K10: ='Anexa 7.3'!K261 -> 70000 | L10: ='Anexa 7.3'!K294+'Anexa 7.3'!K298+'Anexa 7.3'!K302 -> 280000 | N10: =SUM('Anexa 7.3'!K358:K359) -> 140000 | O10: ='Anexa 7.3'!K387+'Anexa 7.3'!K390 -> 140000 | P10: ='Anexa 7.3'!K416 -> 70000 | Q10: ='Anexa 7.3'!K440 -> 70000 | R10: =SUM('Anexa 7.3'!K473:K476) -> 440000 | Y10: ='Anexa 7.3'!K687 -> 70000 | AA10: ='Anexa 7.3'!L726 -> 70000 | AF10: 0 | AH10: ='Anexa 7.3'!K815 -> 70000 | AI10: ='Anexa 7.3'!K932 -> 420000 | AL10: ='Anexa 7.3'!K987 -> 190208 | AQ10: ='Anexa 7.3'!K1092 -> 70000 | AU10: ='Anexa 7.3'!K1173 -> 70000 | AW10: ='Anexa 7.3'!K1213 -> 140000 | AX10: ='Anexa 7.3'!K1238 -> 70000
A11: 1.5 | B11: Rețea distribuție | C11: =SUM(D11:BK11) -> 54886925 | D11: ='Anexa 7.3'!K10+'Anexa 7.3'!K11+'Anexa 7.3'!K12+'Anexa 7.3'!K13+'Anexa 7.3'!K14+'Anexa 7.3'!K15 -> 2782980 | E11: =SUM('Anexa 7.3'!K39:K43) -> 1592023 | F11: =SUM('Anexa 7.3'!K66:K71) -> 2169240 | G11: ='Anexa 7.3'!K95+'Anexa 7.3'!K99+'Anexa 7.3'!K103+'Anexa 7.3'!K104 -> 1029600 | H11: ='Anexa 7.3'!K129+'Anexa 7.3'!K130+'Anexa 7.3'!K131+'Anexa 7.3'!K135+'Anexa 7.3'!K136+'Anexa 7.3'!K139 -> 805200 | I11: =SUM('Anexa 7.3'!K176:K190) -> 2379900 | J11: =SUM('Anexa 7.3'!K224:K233) -> 747460 | K11: ='Anexa 7.3'!K252+'Anexa 7.3'!K253+'Anexa 7.3'!K256+'Anexa 7.3'!K257+'Anexa 7.3'!K258+'Anexa 7.3'!K262+'Anexa 7.3'!K263+'Anexa 7.3'!K266 -> 2041600 | L11: ='Anexa 7.3'!K295+'Anexa 7.3'!K296+'Anexa 7.3'!K299+'Anexa 7.3'!K303+'Anexa 7.3'!K304+'Anexa 7.3'!K308 -> 1086800 | N11: =SUM('Anexa 7.3'!K354:K357) -> 927000 | O11: ='Anexa 7.3'!K385+'Anexa 7.3'!K388+'Anexa 7.3'!K391 -> 1917600 | P11: ='Anexa 7.3'!K412+'Anexa 7.3'!K413+'Anexa 7.3'!K414+'Anexa 7.3'!K417 -> 915200 | Q11: ='Anexa 7.3'!K439+'Anexa 7.3'!K443+'Anexa 7.3'!K445 -> 892000 | R11: =SUM('Anexa 7.3'!K477:K488) -> 9906900 | S11: ='Anexa 7.3'!K549+'Anexa 7.3'!K552+'Anexa 7.3'!K554+'Anexa 7.3'!K555 -> 915200 | T11: ='Anexa 7.3'!K578 -> 0 | U11: ='Anexa 7.3'!K602 -> 140800 | V11: ='Anexa 7.3'!K619 -> 206000 | W11: =SUM('Anexa 7.3'!K630:K636) -> 2243000 | X11: =SUM('Anexa 7.3'!K659:K669) -> 3942000 | Y11: ='Anexa 7.3'!K688 -> 486400 | Z11: ='Anexa 7.3'!K707 -> 136000 | AA11: ='Anexa 7.3'!K727+'Anexa 7.3'!K728+'Anexa 7.3'!K730+'Anexa 7.3'!K731 -> 591600 | AB11: ='Anexa 7.3'!K761+'Anexa 7.3'!K762 -> 652800 | AC11: ='Anexa 7.3'!K779+'Anexa 7.3'!K782+'Anexa 7.3'!K786 -> 736000 | AF11: ='Anexa 7.3'!K883+'Anexa 7.3'!K884+'Anexa 7.3'!K885+'Anexa 7.3'!K887+'Anexa 7.3'!K888 -> 953600 | AH11: =SUM('Anexa 7.3'!K816:K829) -> 1892940 | AI11: ='Anexa 7.3'!K929+'Anexa 7.3'!K930+'Anexa 7.3'!K931 -> 761600 | AJ11: ='Anexa 7.3'!K954 -> 153600 | AK11: ='Anexa 7.3'!K965+'Anexa 7.3'!K966+'Anexa 7.3'!K967+'Anexa 7.3'!K969 -> 140800 | AN11: ='Anexa 7.3'!K1021+'Anexa 7.3'!K1022 -> 464000 | AO11: ='Anexa 7.3'!K1040 -> 136000 | AP11: ='Anexa 7.3'!K1072 -> 320000 | AQ11: =SUM('Anexa 7.3'!K1088:K1090)+'Anexa 7.3'!K1093 -> 1030400 | AR11: ='Anexa 7.3'!K1117+'Anexa 7.3'!K1119 -> 414000 | AS11: ='Anexa 7.3'!K1138 -> 192000 | AT11: ='Anexa 7.3'!K1154+'Anexa 7.3'!K1155 -> 592000 | AU11: ='Anexa 7.3'!K1174 -> 646000 | AV11: ='Anexa 7.3'!K1193 -> 224000 | AW11: ='Anexa 7.3'!K1210+'Anexa 7.3'!K1211+'Anexa 7.3'!K1214 -> 1288650 | AX11: ='Anexa 7.3'!K1239 -> 211200 | AZ11: ='Anexa 7.3'!K1279 -> 128000 | BA11: ='Anexa 7.3'!K1301+'Anexa 7.3'!K1302+'Anexa 7.3'!K1303+'Anexa 7.3'!K1304+'Anexa 7.3'!K1305+'Anexa 7.3'!K1308+'Anexa 7.3'!K1311 -> 2188000 | BC11: ='Anexa 7.3'!K1356+SUM('Anexa 7.3'!K1360:K1360) -> 960000 | BD11: ='Anexa 7.3'!K1384+'Anexa 7.3'!K1386+'Anexa 7.3'!K1389+'Anexa 7.3'!K1392+'Anexa 7.3'!K1395+'Anexa 7.3'!K1397 -> 1056000 | BE11: ='Anexa 7.3'!K1423+'Anexa 7.3'!K1429 -> 448000 | BF11: ='Anexa 7.3'!K1452+'Anexa 7.3'!K1453 -> 124800 | BG11: ='Anexa 7.3'!K1471+'Anexa 7.3'!K1472+'Anexa 7.3'!K1473 -> 902988 | BH11: ='Anexa 7.3'!L1495 -> 192000 | BI11: ='Anexa 7.3'!K1513+'Anexa 7.3'!K1514+'Anexa 7.3'!K1515+'Anexa 7.3'!K1518+'Anexa 7.3'!K1519+'Anexa 7.3'!K1520 -> 223044
A12: 1.6 | B12: Rezervoare | C12: =SUM(D12:BK12) -> 5699538 | D12: ='Anexa 7.3'!K16 -> 400000 | E12: ='Anexa 7.3'!K44 -> 100284 | F12: ='Anexa 7.3'!K72 -> 270000 | G12: ='Anexa 7.3'!K96+'Anexa 7.3'!K100+'Anexa 7.3'!K105 -> 184500 | H12: ='Anexa 7.3'!K137+'Anexa 7.3'!K140 -> 123000 | I12: =SUM('Anexa 7.3'!K191:K193) -> 377254 | K12: ='Anexa 7.3'!K254+'Anexa 7.3'!K259+'Anexa 7.3'!K264 -> 184500 | L12: ='Anexa 7.3'!K300+'Anexa 7.3'!K305+'Anexa 7.3'!K309 -> 181000 | N12: =SUM('Anexa 7.3'!K360:K362) -> 91000 | O12: ='Anexa 7.3'!K389+'Anexa 7.3'!K392 -> 160000 | P12: ='Anexa 7.3'!K418 -> 66500 | Q12: ='Anexa 7.3'!K441+'Anexa 7.3'!K444 -> 48500 | R12: =SUM('Anexa 7.3'!K489:K494) -> 779500 | S12: ='Anexa 7.3'!K550 -> 51500 | AA12: ='Anexa 7.3'!K729 -> 66500 | AC12: ='Anexa 7.3'!L783+'Anexa 7.3'!L787 -> 103000 | AD12: ='Anexa 7.3'!K853 -> 36500 | AH12: ='Anexa 7.3'!K830 -> 55000 | AI12: ='Anexa 7.3'!K933 -> 75000 | AJ12: ='Anexa 7.3'!K955 -> 51500 | AK12: ='Anexa 7.3'!J970 -> 51500 | AQ12: ='Anexa 7.3'!K1094 -> 66500 | AU12: ='Anexa 7.3'!K1175 -> 75000 | AW12: ='Anexa 7.3'!K1215 -> 85000 | AX12: ='Anexa 7.3'!K1240 -> 66500 | BA12: ='Anexa 7.3'!K1306+'Anexa 7.3'!K1309+'Anexa 7.3'!K1312 -> 199500 | BC12: ='Anexa 7.3'!K1361 -> 36500 | BD12: ='Anexa 7.3'!K1385+'Anexa 7.3'!K1387+'Anexa 7.3'!K1390+'Anexa 7.3'!K1393+'Anexa 7.3'!K1396 -> 258500 | BE12: ='Anexa 7.3'!K1424+'Anexa 7.3'!K1425+'Anexa 7.3'!K1426+'Anexa 7.3'!K1430 -> 233500 | BG12: ='Anexa 7.3'!K1474 -> 66500 | BI12: ='Anexa 7.3'!K1516+'Anexa 7.3'!K1521+'Anexa 7.3'!K1522 -> 131500 | BJ12: ='Anexa 7.3'!K1541+'Anexa 7.3'!K1542 -> 320000 | BK12: =SUM('Anexa 7.3'!K1552:K1554) -> 704000
A13: 2 | B13: APĂ UZATĂ
A14: 2.1 | B14: Stație de epurare | C14: =SUM(D14:BK14) -> 21405900 | D14: ='Anexa 7.3'!K22+'Anexa 7.3'!K24+'Anexa 7.3'!K25+'Anexa 7.3'!K27 -> 353000 | E14: ='Anexa 7.3'!K50+'Anexa 7.3'!K51+'Anexa 7.3'!K53 -> 256000 | F14: ='Anexa 7.3'!K78+'Anexa 7.3'!K80+'Anexa 7.3'!K82 -> 268500 | G14: ='Anexa 7.3'!K111+'Anexa 7.3'!K113+'Anexa 7.3'!K115+'Anexa 7.3'!K116+'Anexa 7.3'!K118 -> 483500 | H14: ='Anexa 7.3'!K150+'Anexa 7.3'!K152+'Anexa 7.3'!K153+'Anexa 7.3'!K155+'Anexa 7.3'!K157 -> 493500 | I14: ='Anexa 7.3'!K205+'Anexa 7.3'!K207+'Anexa 7.3'!K209+'Anexa 7.3'!K211 -> 462000 | J14: ='Anexa 7.3'!K239+'Anexa 7.3'!K241 -> 162000 | K14: ='Anexa 7.3'!K272+'Anexa 7.3'!K275+'Anexa 7.3'!K276+'Anexa 7.3'!K277+'Anexa 7.3'!K279+'Anexa 7.3'!K280+'Anexa 7.3'!K281+'Anexa 7.3'!K282+'Anexa 7.3'!K283 -> 747500 | L14: ='Anexa 7.3'!K315+'Anexa 7.3'!K317+'Anexa 7.3'!K318+'Anexa 7.3'!K320+'Anexa 7.3'!K322 -> 517500 | M14: ='Anexa 7.3'!K332+'Anexa 7.3'!K334+'Anexa 7.3'!K337+'Anexa 7.3'!K339+'Anexa 7.3'!K340 -> 863900 | N14: ='Anexa 7.3'!K369+'Anexa 7.3'!K373+'Anexa 7.3'!K374 -> 187500 | Q14: ='Anexa 7.3'!K454+'Anexa 7.3'!K456 -> 176500 | R14: =SUM('Anexa 7.3'!K501:K506) -> 6265500 | S14: ='Anexa 7.3'!K561 -> 70000 | T14: ='Anexa 7.3'!K584+'Anexa 7.3'!K587+'Anexa 7.3'!K589 -> 426000 | Y14: ='Anexa 7.3'!K694 -> 214000 | AA14: ='Anexa 7.3'!K739+'Anexa 7.3'!K742+'Anexa 7.3'!K745+'Anexa 7.3'!K748+'Anexa 7.3'!K749 -> 655500 | AC14: ='Anexa 7.3'!K793+'Anexa 7.3'!K796+'Anexa 7.3'!K797 -> 305500 | AE14: ='Anexa 7.3'!K861+'Anexa 7.3'!K864+'Anexa 7.3'!K866+'Anexa 7.3'!K868+'Anexa 7.3'!K870+'Anexa 7.3'!K872 -> 630000 | AF14: ='Anexa 7.3'!K894+'Anexa 7.3'!K899+'Anexa 7.3'!K901+'Anexa 7.3'!K903+'Anexa 7.3'!K904 -> 658000 | AG14: ='Anexa 7.3'!K914+'Anexa 7.3'!K916+'Anexa 7.3'!K918+'Anexa 7.3'!K919 -> 471000 | AI14: ='Anexa 7.3'!K941 -> 214000 | AK14: ='Anexa 7.3'!K976 -> 70000 | AL14: ='Anexa 7.3'!K993+'Anexa 7.3'!K996+'Anexa 7.3'!K998 -> 458000 | AN14: ='Anexa 7.3'!K1030 -> 70000 | AQ14: ='Anexa 7.3'!K1100+'Anexa 7.3'!K1106 -> 456500 | AR14: ='Anexa 7.3'!K1127 -> 106500 | AW14: ='Anexa 7.3'!K1221+'Anexa 7.3'!K1224+'Anexa 7.3'!K1227 -> 433500 | AX14: ='Anexa 7.3'!K1246+'Anexa 7.3'!K1249+'Anexa 7.3'!K1251+'Anexa 7.3'!K1253+'Anexa 7.3'!K1254+'Anexa 7.3'!K1256+'Anexa 7.3'!K1258 -> 800500 | AZ14: ='Anexa 7.3'!K1285 -> 198000 | BA14: ='Anexa 7.3'!K1318+'Anexa 7.3'!K1320+'Anexa 7.3'!K1321+'Anexa 7.3'!K1323+'Anexa 7.3'!K1325+'Anexa 7.3'!K1327+'Anexa 7.3'!K1328 -> 730000 | BB14: ='Anexa 7.3'!K1338+'Anexa 7.3'!K1340+'Anexa 7.3'!K1341+'Anexa 7.3'!K1342+'Anexa 7.3'!K1343+'Anexa 7.3'!K1344+'Anexa 7.3'!K1346+'Anexa 7.3'!K1345 -> 1103000 | BC14: ='Anexa 7.3'!K1372 -> 165500 | BD14: ='Anexa 7.3'!K1406+'Anexa 7.3'!K1407+'Anexa 7.3'!K1408+'Anexa 7.3'!K1409+'Anexa 7.3'!K1410 -> 362000 | BE14: ='Anexa 7.3'!K1436+'Anexa 7.3'!K1438+'Anexa 7.3'!K1440+'Anexa 7.3'!K1442 -> 522000 | BG14: ='Anexa 7.3'!K1480+'Anexa 7.3'!K1483 -> 309000 | BI14: ='Anexa 7.3'!K1528+'Anexa 7.3'!K1530 -> 272000 | BK14: ='Anexa 7.3'!K1560+'Anexa 7.3'!K1562+'Anexa 7.3'!K1563+'Anexa 7.3'!K1564+'Anexa 7.3'!K1565 -> 468500
A15: 2.2 | B15: Colector principal | C15: =SUM(D15:BK15) -> 5590618 | H15: ='Anexa 7.3'!K146 -> 99000 | I15: ='Anexa 7.3'!K202 -> 153600 | P15: ='Anexa 7.3'!K424 -> 528000 | Q15: ='Anexa 7.3'!K452 -> 528000 | S15: ='Anexa 7.3'!K562+'Anexa 7.3'!K563 -> 800800 | T15: ='Anexa 7.3'!K585 -> 825000 | Y15: ='Anexa 7.3'!K695 -> 110600 | AF15: ='Anexa 7.3'!K895 -> 660000 | AO15: =SUM('Anexa 7.3'!K1046:K1049) -> 299618 | AR15: ='Anexa 7.3'!K1125 -> 165500 | AU15: ='Anexa 7.3'!K1182 -> 948000 | BC15: ='Anexa 7.3'!K1367 -> 60000 | BD15: ='Anexa 7.3'!K1403 -> 412500
A16: 2.3 | B16: Stație de pompare | C16: =SUM(D16:BK16) -> 4270000 | H16: ='Anexa 7.3'!K147 -> 134000 | I16: ='Anexa 7.3'!K200+'Anexa 7.3'!K203 -> 134000 | N16: ='Anexa 7.3'!K370 -> 201000 | O16: ='Anexa 7.3'!K398+'Anexa 7.3'!K399 -> 268000 | R16: =SUM('Anexa 7.3'!K507:K511) -> 402000 | S16: ='Anexa 7.3'!K564 -> 268000 | Y16: ='Anexa 7.3'!K696 -> 268000 | AA16: ='Anexa 7.3'!K740+'Anexa 7.3'!K743+'Anexa 7.3'!K746+'Anexa 7.3'!K750 -> 268000 | AE16: ='Anexa 7.3'!K862 -> 134000 | AF16: ='Anexa 7.3'!K896 -> 134000 | AI16: ='Anexa 7.3'!K942 -> 335000 | AL16: ='Anexa 7.3'!K994 -> 134000 | AO16: =SUM('Anexa 7.3'!K1061:K1062) -> 719000 | AQ16: ='Anexa 7.3'!K1101+'Anexa 7.3'!K1102 -> 201000 | BC16: ='Anexa 7.3'!K1368+'Anexa 7.3'!K1370 -> 335000 | BD16: ='Anexa 7.3'!K1404 -> 67000 | BG16: ='Anexa 7.3'!K1481 -> 268000
A17: 2.4 | B17: Rețea apă uzată | C17: =SUM(D17:BK17) -> 1.1866262e+08 | D17: ='Anexa 7.3'!K23+'Anexa 7.3'!K26 -> 2926000 | E17: ='Anexa 7.3'!K52+'Anexa 7.3'!K54 -> 1463000 | F17: ='Anexa 7.3'!K79+'Anexa 7.3'!K81 -> 2233000 | G17: ='Anexa 7.3'!K112+'Anexa 7.3'!K114+'Anexa 7.3'!K117+'Anexa 7.3'!K119 -> 3896200 | H17: ='Anexa 7.3'!K148+'Anexa 7.3'!K149+'Anexa 7.3'!K151+'Anexa 7.3'!K154+'Anexa 7.3'!K156 -> 3910500 | I17: ='Anexa 7.3'!K201+'Anexa 7.3'!K204+'Anexa 7.3'!K206+'Anexa 7.3'!K208+'Anexa 7.3'!K210 -> 6314000 | J17: ='Anexa 7.3'!K240 -> 723800 | K17: ='Anexa 7.3'!K273+'Anexa 7.3'!K274+'Anexa 7.3'!K278 -> 2217600 | L17: ='Anexa 7.3'!K316+'Anexa 7.3'!K319+'Anexa 7.3'!K321 -> 1786400 | M17: ='Anexa 7.3'!K333+'Anexa 7.3'!K335+'Anexa 7.3'!K336+'Anexa 7.3'!K338 -> 2161200 | N17: ='Anexa 7.3'!K371+'Anexa 7.3'!K372+'Anexa 7.3'!K375+'Anexa 7.3'!L368 -> 2808168 | O17: ='Anexa 7.3'!K400+'Anexa 7.3'!K401+'Anexa 7.3'!K402 -> 5115000 | P17: =SUM('Anexa 7.3'!K425:K428) -> 2279200 | Q17: ='Anexa 7.3'!K453+'Anexa 7.3'!K455+'Anexa 7.3'!L457 -> 2079000 | R17: =SUM('Anexa 7.3'!K512:K521) -> 4989000 | S17: ='Anexa 7.3'!K565+'Anexa 7.3'!K566 -> 1555400 | T17: ='Anexa 7.3'!K586+'Anexa 7.3'!K588+'Anexa 7.3'!K590 -> 2109800 | U17: ='Anexa 7.3'!K608 -> 1139600 | W17: =SUM('Anexa 7.3'!K643:K643) -> 693000 | X17: ='Anexa 7.3'!K675+'Anexa 7.3'!K676+'Anexa 7.3'!K677 -> 2310000 | Y17: ='Anexa 7.3'!K697 -> 1586200 | Z17: ='Anexa 7.3'!K713 -> 924000 | AA17: ='Anexa 7.3'!K741+'Anexa 7.3'!K744+'Anexa 7.3'!K747+'Anexa 7.3'!K751 -> 2079000 | AB17: ='Anexa 7.3'!K768+'Anexa 7.3'!K769 -> 3418800 | AC17: ='Anexa 7.3'!K794+'Anexa 7.3'!K795 -> 1259500 | AE17: ='Anexa 7.3'!K863+'Anexa 7.3'!K865+'Anexa 7.3'!K867+'Anexa 7.3'!K869+'Anexa 7.3'!K871+'Anexa 7.3'!K873 -> 5863858 | AF17: ='Anexa 7.3'!K897+'Anexa 7.3'!K898+'Anexa 7.3'!K900+'Anexa 7.3'!K902 -> 2849000 | AG17: ='Anexa 7.3'!K915+'Anexa 7.3'!K917 -> 1971200 | AH17: =SUM('Anexa 7.3'!K836:K841) -> 4466000 | AI17: ='Anexa 7.3'!K939+'Anexa 7.3'!K940+'Anexa 7.3'!K943 -> 2541000 | AL17: ='Anexa 7.3'!K995+'Anexa 7.3'!K997+'Anexa 7.3'!K999 -> 1647800 | AM17: ='Anexa 7.3'!K1009+'Anexa 7.3'!K1010 -> 385000 | AN17: ='Anexa 7.3'!K1028+'Anexa 7.3'!K1029 -> 1078000 | AO17: =SUM('Anexa 7.3'!K1050:K1055) -> 1228195 | AP17: ='Anexa 7.3'!K1078 -> 616000 | AQ17: ='Anexa 7.3'!K1103+'Anexa 7.3'!K1104+'Anexa 7.3'!K1105+'Anexa 7.3'!K1107 -> 3249400 | AR17: ='Anexa 7.3'!K1126+'Anexa 7.3'!K1128 -> 1971200 | AS17: ='Anexa 7.3'!K1144 -> 308000 | AT17: ='Anexa 7.3'!L1161 -> 1078000 | AU17: ='Anexa 7.3'!K1181+'Anexa 7.3'!K1183 -> 1078000 | AV17: ='Anexa 7.3'!K1199 -> 462000 | AW17: ='Anexa 7.3'!K1222+'Anexa 7.3'!K1223+'Anexa 7.3'!K1225+'Anexa 7.3'!K1226 -> 2062500 | AX17: ='Anexa 7.3'!K1247+'Anexa 7.3'!K1248+'Anexa 7.3'!K1250+'Anexa 7.3'!K1252+'Anexa 7.3'!K1255+'Anexa 7.3'!K1257+'Anexa 7.3'!K1259 -> 5623200 | AY17: ='Anexa 7.3'!K1269 -> 165000 | AZ17: ='Anexa 7.3'!K1286 -> 1006500 | BA17: ='Anexa 7.3'!K1319+'Anexa 7.3'!K1322+'Anexa 7.3'!K1324+'Anexa 7.3'!K1326 -> 3696000 | BB17: ='Anexa 7.3'!K1339 -> 926999.92 | BC17: ='Anexa 7.3'!K1369+'Anexa 7.3'!K1371+'Anexa 7.3'!K1373 -> 2002000 | BD17: ='Anexa 7.3'!K1405+'Anexa 7.3'!K1411 -> 1232000 | BE17: ='Anexa 7.3'!K1437+'Anexa 7.3'!K1439+'Anexa 7.3'!K1441 -> 2017400 | BF17: ='Anexa 7.3'!K1459+'Anexa 7.3'!K1460+'Anexa 7.3'!K1461 -> 816200 | BG17: ='Anexa 7.3'!K1482+'Anexa 7.3'!K1484 -> 2156000 | BH17: ='Anexa 7.3'!L1501 -> 924000 | BI17: ='Anexa 7.3'!K1529+'Anexa 7.3'!K1531 -> 1185800 | BK17: ='Anexa 7.3'!K1561+'Anexa 7.3'!K1566 -> 2079000
A18: 2.5 | B18: Nămol
A19: 2.6 | B19: Mașini și echipam.
A20: 2,7 | B20: SCADA
A21: 2.8 | B21: Altele | C21: =SUM(D21:BK21) -> 3303000 | R21: ='Anexa 7.3'!K540 -> 3260000 | AO21: ='Anexa 7.3'!K1056+'Anexa 7.3'!K1057+'Anexa 7.3'!K1058+'Anexa 7.3'!K1059+'Anexa 7.3'!K1060 -> 43000
B23: TOTAL | C23: =SUM(C7:C21) -> 2.6096916e+08 | D23: =SUM(D7:D21) -> 7786973 | E23: =SUM(E7:E21) -> 4222907 | F23: =SUM(F7:F21) -> 5924214 | G23: =SUM(G7:G21) -> 6315400 | H23: =SUM(H7:H20) -> 7016200 | I23: =SUM(I7:I20) -> 11527317 | J23: =SUM(J7:J21) -> 2561860 | K23: =SUM(K7:K21) -> 5888600 | L23: =SUM(L7:L21) -> 4895900 | M23: =SUM(M7:M20) -> 3025100 | N23: =SUM(N7:N21) -> 5114668 | O23: =SUM(O7:O21) -> 8212600 | P23: =SUM(P7:P21) -> 4025300 | Q23: =SUM(Q7:Q22) -> 4072600 | R23: =SUM(R7:R21) -> 35762900 | S23: =SUM(S7:S21) -> 3986900 | T23: =SUM(T7:T21) -> 3360800 | U23: =SUM(U7:U21) -> 2386400 | V23: =SUM(V7:V21) -> 2906000 | W23: =SUM(W7:W21) -> 3236000 | X23: =SUM(X7:X21) -> 13452000 | Y23: =SUM(Y7:Y21) -> 2735200 | Z23: =SUM(Z7:Z21) -> 1060000 | AA23: =SUM(AA7:AA20) -> 4245800 | AB23: =SUM(AB7:AB21) -> 4071600 | AC23: =SUM(AC7:AC21) -> 2715200 | AD23: =SUM(AD7:AD20) -> 36500 | AE23: =SUM(AE7:AE20) -> 6627858 | AF23: =SUM(AF7:AF20) -> 5299400 | AG23: =SUM(AG7:AG20) -> 2442200 | AH23: =SUM(AH7:AH21) -> 11783940 | AI23: =SUM(AI7:AI21) -> 4346600 | AJ23: =SUM(AJ7:AJ21) -> 294100 | AK23: =SUM(AK7:AK21) -> 351300 | AL23: =SUM(AL7:AL21) -> 2947008 | AM23: =SUM(AM7:AM21) -> 385000 | AN23: =SUM(AN7:AN21) -> 1816000 | AO23: =SUM(AO7:AO21) -> 2425813 | ... BC23: =SUM(BC7:BC21) -> 3762980 | BD23: =SUM(BD7:BD22) -> 3780000 | BE23: =SUM(BE7:BE17) -> 3705900 | BF23: =SUM(BF7:BF22) -> 941000 | BG23: =SUM(BG7:BG22) -> 3702488 | BH23: =SUM(BH6:BH21) -> 1166000 | BI23: =SUM(BI7:BI22) -> 1898024 | BJ23: =SUM(BJ7:BJ22) -> 320000 | BK23: =SUM(BK7:BK22) -> 3251500
A24: Toate costurile sunt exprimate în prețuri curente, în EURO, anul de baza - 2013

Sheet Anexa 7.3
A2: ANEXA 7.3. COSTURI DE INVESTITII PE FAZE SI CATEGORII DE LUCRARI
G4: 1. BUDEȘTI
A6: Comună | B6: Stație de tratare | C6: Localitate | D6: Populație | E6: L.E. | F6: Articol | G6: Descriere | H6: Unitate măsură (m sau buc) | I6: Cantitate | J6: Cost unitar ( € ) | K6: Costuri totale ( € ) | L6: Faza 2* Fonduri de coeziune (€) | M6: Faza 2* Alte fonduri ( € ) | N6: Fazele următoare* (€) | O6: Total investiție/ aglomerare/ cluster/ localitate | P6: Investiție specifică (Euro/cap de locuitor) | Q6: Justificare
L7: 2014-2020 | M7: 2014-2020 | N7: După 2020
A8: Budești | B8: Bistrița | C8: Budești + Budești - Fânațe + Tâgu + Tâgșor | D8: 1972 | E8: - | F8: Aducțiuni apă | G8: Conductă de aducțiune pentru Comuna Budești (branșarea la conducta de aducțiune existentă realizată pentru alimentare cu apă a localităților Matei și Corvinești din Comuna Matei), PEHD, Dn 250 mm | H8: m | I8: 7840 | J8: ='preturi unitare'!H26 -> 117 | K8: =I8*J8 -> 917280 | L8: =K8 -> 917280 | M8: 0 | N8: 0 | O8: =L18 -> 4507973 | P8: =O8/D8 -> 2285.9904 | Q8: 1. lipsa surselor de apă potabilă din zonă conform cu standardele în vigoare în ceea ce privește calitatea apei potabile; 2. localități cu peste 50 de locuitori; 3. asigurarea gradului de conectare de 100% până în 2015; 4. investiții în sistemul de alimentare cu apa: max. 1.000 Euro / locuitor; invetiția pentru comuna Budești a fost adunată cu investițiile din comuna Miceștii de Câmpie, Sânmihaiu de Câmpie, Matei, Teaca, localitatea Sângeorzu Nou din Comuna Lechința și localitățile Orosfaia și Comlod din Comuna Milaș. 5. Comuna Budești este membră ADI - Apă - Canalizare - Bistrița.
F9: Stații de pompare | G9: Stație de repompare SRP | H9: buc | I9: 1 | J9: 407713 | K9: =I9*J9 -> 407713 | L9: =K9 -> 407713 | M9: 0 | N9: 0
F10: Rețea de distribuție | G10: Rețea de distribuție nouă pentru Comuna Budești, Dn 63 mm, PEHD | H10: m | I10: 11700 | J10: 55 | K10: =I10*J10 -> 643500 | L10: =K10 -> 643500 | M10: 0 | N10: 0
G11: Rețea de distribuție nouă pentru Comuna Budești, Dn 75 mm, PEHD | H11: m | I11: 8000 | J11: ='preturi unitare'!H32 -> 58 | K11: =I11*J11 -> 464000 | L11: =K11 -> 464000 | M11: 0 | N11: 0
G12: Rețea de distribuție nouă pentru Comuna Budești, Dn 90 mm, PEHD | H12: m | I12: 5900 | J12: ='preturi unitare'!H33 -> 60 | K12: =I12*J12 -> 354000 | L12: =K12 -> 354000 | M12: 0 | N12: 0
G13: Rețea de distribuție nouă pentru Comuna Budești, Dn 110 mm, PEHD | H13: m | I13: 635 | J13: ='preturi unitare'!H22 -> 64 | K13: =I13*J13 -> 40640 | L13: =K13 -> 40640 | M13: 0 | N13: 0
G14: Rețea de distribuție nouă pentru Comuna Budești, Dn 125 mm, PEHD | H14: m | I14: 12330 | J14: ='preturi unitare'!H23 -> 68 | K14: =I14*J14 -> 838440 | L14: =K14 -> 838440 | M14: 0 | N14: 0
G15: Rețea de distribuție nouă pentru Comuna Budești, Dn 140 mm, PEHD | H15: m | I15: 5600 | J15: ='preturi unitare'!H24 -> 79 | K15: =I15*J15 -> 442400 | L15: =K15 -> 442400 | M15: 0 | N15: 0
F16: Rezervoare | G16: Rezervor de înmagazinare a apei pentru Comuna Budești, V = 550 m3 + stație de clorinare | H16: buc | I16: 1 | J16: 400000 | K16: =I16*J16 -> 400000 | L16: =K16 -> 400000 | M16: 0 | N16: 0
A18: Total alimentare cu apă Comuna Budești | K18: =SUM(K8:K16) -> 4507973 | L18: =SUM(L8:L16) -> 4507973 | M18: =SUM(M8:M16) -> 0 | N18: =SUM(N8:N17) -> 0
A20: Comuna | B20: Aglomerare | C20: Localitate | D20: Populație | E20: L.E. | F20: Articol | G20: Descriere | H20: Unitate măsură (m sau buc) | I20: Cantitate | J20: Cost unitar ( € ) | K20: Costuri totale ( € ) | L20: Faza 2* Fonduri de coeziune (€) | M20: Faza 2* Alte fonduri ( € ) | N20: Fazele următoare* (€) | O20: Total investiție pe aglomerare/ cluster/ localitate | P20: Investiție specifică (Euro/cap de locuitor) | Q20: Justificare
L21: 2014-2020 | M21: 2014-2020 | N21: După 2020
A22: Budești | B22: - | C22: Budești | D22: 640 | E22: =D22 -> 640 | F22: Stație de epurare | G22: Stație nouă de epurare pentru localitatea Budești, capacitate 650 L.E. | H22: buc | I22: 1 | J22: ='preturi unitare'!O27 -> 106500 | K22: =I22*J22 -> 106500 | L22: 0 | M22: =K22 -> 106500 | N22: 0 | O22: =SUM(M22:M23) -> 1800500 | P22: =O22/E22 -> 2813.2812 | Q22: Localitatea Budești este o aglomerare sub 2000 L.E. , motiv pentru care nu au fost propuse investiții în sistemul de canalizare prin fonduri de coeziune.
F23: Rețea apă uzată | G23: Rețea nouă de canalizare în localitatea Budești, Dn 250 mm, PVC | H23: m | I23: 11000 | J23: ='preturi unitare'!H40 -> 154 | K23: =J23*I23 -> 1694000 | L23: 0 | M23: =K23 -> 1694000 | N23: 0
B24: - | C24: Budești - Fânațe | D24: 354 | E24: =D24 -> 354 | F24: Stație de epurare | G24: Soluție individuală de epuarare pentru localitatea Budești - Fânațe, | H24: global | I24: 1 | J24: ='preturi unitare'!N4 -> 70000 | K24: =J24*I24 -> 70000 | L24: 0 | M24: =K24 -> 70000 | N24: 0 | O24: =K24 -> 70000 | P24: =O24/E24 -> 197.74011 | Q24: Localitatea Budești - Fânațe este o aglomerare sub 2000 L.E. , motiv pentru care nu au fost propuse investiții în sistemul de canalizare prin fonduri de coeziune.
B25: - | C25: Tâgu | D25: 653 | E25: =D25 -> 653 | F25: Stație de epurare | G25: Stație nouă de epurare pentru localitatea Tâgu, capacitate 650 L.E. | H25: buc | I25: 1 | J25: =J22 -> 106500 | K25: =I25*J25 -> 106500 | L25: 0 | M25: =K25 -> 106500 | N25: 0 | O25: =SUM(M25:M26) -> 1338500 | P25: =O25/E25 -> 2049.7703 | Q25: Localitatea Tâgu este o aglomerare sub 2000 L.E. , motiv pentru care nu au fost propuse investiții în sistemul de canalizare prin fonduri de coeziune.
F26: Rețea apă uzată | G26: Rețea nouă de canalizare în localitatea Tâgu, Dn 250 mm, PVC | H26: m | I26: 8000 | J26: ='preturi unitare'!H40 -> 154 | K26: =I26*J26 -> 1232000 | L26: 0 | M26: =K26 -> 1232000 | N26: 0
B27: - | C27: Tâgșoru | D27: 325 | E27: =D27 -> 325 | F27: Stație de epurare | G27: Soluție individuală de epurare pentru localitatea Tâgșoru | H27: global | I27: 1 | J27: ='preturi unitare'!N4 -> 70000 | K27: =I27*J27 -> 70000 | L27: 0 | M27: =K27 -> 70000 | N27: 0 | O27: =K27 -> 70000 | P27: =O27/E27 -> 215.38462 | Q27: Localitatea Tâgșoru este o aglomerare sub 2000 L.E. , motiv pentru care nu au fost propuse investiții în sistemul de canalizare prin fonduri de coeziune.
A29: Total apă uzată Comuna Budești | K29: =SUM(K22:K27) -> 3279000 | L29: =SUM(L22:L27) -> 0 | M29: =SUM(M22:M27) -> 3279000 | N29: =SUM(N22:N27) -> 0
A31: Total Comuna Budești | K31: =K29+K18 -> 7786973 | L31: =L29+L18 -> 4507973 | M31: =M29+M18 -> 3279000 | N31: =N29+N18 -> 0
G33: 2. MICEȘTII DE CÂMPIE
A35: Comuna | B35: Stație de tratare | C35: Localitate | D35: Populație | E35: L.E. | F35: Articol | G35: Descriere | H35: Unitate măsură (m sau buc) | I35: Cantitate | J35: Cost unitar ( € ) | K35: Costuri totale ( € ) | L35: Faza 2* Fonduri de coeziune (€) | M35: Faza 2* Alte fonduri ( € ) | N35: Fazele următoare* (€) | O35: Total investiție pe aglomerare/ cluster/ localitate | P35: Investiție specifică (Euro/cap de locuitor) | Q35: Justificare
L36: 2014-2020 | M36: 2014-2020 | N36: După 2020
A37: Miceștii de Campie | B37: Bistrița | C37: Miceștii de Câmpie + Vișuia + Fântânița | D37: =313 +439+398 -> 1150 | E37: - | F37: Aducțiune apă | G37: Conductă de aducțiune pentru Comuna Miceștii de Câmpie (branșarea la conducta de aducțiune existentă din Comuna Matei), PEHD, Dn 250 mm | H37: m | I37: 6800 | J37: ='preturi unitare'!H26 -> 117 | K37: =I37*J37 -> 795600 | L37: =K37 -> 795600 | M37: 0 | N37: 0 | O37: =SUM(L37:L44) -> 2503907 | P37: =O37/D37 -> 2177.3104 | Q37: 1. lipsa surselor de apă potabilă din zonă conform cu standardele în vigoare în ceea ce privește calitatea apei potabile; 2. localități cu peste 50 de locuitori; 3. asigurarea gradului de conectare de 100% până în 2015; 4. investiții în sistemul de alimentare cu apa: max. 1.000 Euro / locuitor; invetiția pentru comuna Miceștii de Câmpie a fost adunată cu investițiile din comuna Budești, Sânmihaiu de Câmpie, Matei, Teaca , localitatea Sângeorzu Nou din Comuna Lechința și localitățile Orosfaia și Comlod din Comuna Milaș. 5. Comuna Miceștii de Câmpie este membră ADI - Apă - Canalizare - Bistrița.
F38: Stații de pompare | G38: Stație de repompare apă potabilă pentru Comuna Miceștii de Câmpie | H38: buc | I38: 1 | J38: 16000 | K38: =I38*J38 -> 16000 | L38: =K38 -> 16000 | M38: 0 | N38: 0
F39: Rețea de distribuție | G39: Rețea nouă de apă potabilă pentru Comuna Miceștii de Câmpie, Dn 63 mm, PEHD | H39: m | I39: 13295 | J39: =J10 -> 55 | K39: =J39*I39 -> 731225 | L39: =K39 -> 731225 | M39: 0
G40: Rețea nouă de apă potabilă pentru Comuna Miceștii de Câmpie, Dn 75 mm, PEHD | H40: m | I40: 3775 | J40: ='preturi unitare'!H32 -> 58 | K40: =J40*I40 -> 218950 | L40: =K40 -> 218950 | M40: 0 | N40: 0
G41: Rețea nouă de apă potabilă pentru Comuna Miceștii de Câmpie, Dn 90 mm, PEHD | H41: m | I41: 3790 | J41: ='preturi unitare'!H33 -> 60 | K41: =J41*I41 -> 227400 | L41: =K41 -> 227400 | M41: 0 | N41: 0
G42: Rețea nouă de apă potabilă pentru Comuna Miceștii de Câmpie, Dn 110 mm, PEHD | H42: m | I42: 5562 | J42: ='preturi unitare'!H22 -> 64 | K42: =J42*I42 -> 355968 | L42: =K42 -> 355968 | M42: 0 | N42: 0
G43: Rețea nouă de apă potabilă pentru Comuna Miceștii de Câmpie, Dn 125 mm, PEHD | H43: m | I43: 860 | J43: ='preturi unitare'!H23 -> 68 | K43: =J43*I43 -> 58480 | L43: =K43 -> 58480 | M43: 0 | N43: 0
F44: Rezervoare | G44: Rezervor nou de înmagazinare a apei + stație de clorinare pentru Comuna Miceștii de Campie, V = 450 m3 | H44: buc | I44: 1 | J44: 100284 | K44: =J44 -> 100284 | L44: =K44 -> 100284 | M44: 0 | N44: 0
A46: Total alimentare cu apă Comuna Miceștii de Câmpie | K46: =SUM(K37:K44) -> 2503907 | L46: =SUM(L37:L44) -> 2503907 | M46: =SUM(M37:M44) -> 0 | N46: =SUM(N37:N44) -> 0
A48: Comuna | B48: Aglomerare | C48: Localitate | D48: Populație | E48: L.E. | F48: Articol | G48: Descriere | H48: Unitate măsură (m sau buc) | I48: Cantitate | J48: Cost unitar ( € ) | K48: Costuri totale ( € ) | L48: Faza 2* Fonduri de coeziune (€) | M48: Faza 2* Alte fonduri ( € ) | N48: Fazele următoare* (€) | O48: Total investiție pe aglomerare/ cluster/ localitate | P48: Investiție specifică (Euro/cap de locuitor) | Q48: Justificare
L49: 2014-2020 | M49: 2014-2020 | N49: După 2020
A50: Miceștii de Câmpie | B50: - | C50: Miceștii de Câmpie | D50: 313 | E50: =D50 -> 313 | F50: Stație de epurare | G50: Soluție individuală de epurare pentru localitatea Miceștii de Câmpie | H50: buc | I50: 1 | J50: ='preturi unitare'!N4 -> 70000 | K50: =I50*J50 -> 70000 | L50: 0 | M50: =K50 -> 70000 | N50: 0 | O50: =K50 -> 70000 | P50: =O50/E50 -> 223.64217 | Q50: Localitatea Miceștii de Câmpie este o aglomerare sub 2000 L.E. , motiv pentru care nu au fost propuse investiții în sistemul de canalizare prin fonduri de coeziune.
B51: - | C51: Vișuia | D51: =439 -> 439 | E51: =D51 -> 439 | F51: Stație de epurare | G51: Stație nouă de epurare pentru localitatea Vișuia - capacitate 500 L.E. | H51: buc | I51: 1 | J51: ='preturi unitare'!O26 -> 94000 | K51: =I51*J51 -> 94000 | L51: 0 | M51: =K51 -> 94000 | N51: 0 | O51: =SUM(K51:K52) -> 864000 | P51: =O51/D51 -> 1968.1093 | Q51: Localitatea Vișuia este o aglomerare sub 2000 L.E. , motiv pentru care nu au fost propuse investiții în sistemul de canalizare prin fonduri de coeziune.
...

Sheet Calcul instalatii namol
B2: Calculatie instalatia dozare var
A4: Nr. crt. | B4: Denumirea | C4: Cantit. | D4: U.M. | E4: Parametrii | F4: Puterea instalata | G4: Putere totala | H4: Pret unitar [ euro] | I4: Pret total [Euro] | J4: Observatii
A5: 1 | B5: Cantitatea zilnica de namol cu continut 20% SU | C5: 28 | D5: m3
A6: 2 | B6: Cantitatea de substanta uscata | C6: =C5*20*1.06 -> 593.6 | D6: kg/zi
A7: 3 | B7: Tratare cu var
A8: 4 | B8: Cantitatea de var necesar | C8: =((C5*1.06*(100-20)/100)-C5*1.06*(100-35)/100)/1.42 -> 3.1352113 | D8: m3/zi
A9: 5 | B9: Siloz de var | C9: 4 | D9: m3 | E9: =C8/0.5*30/C9 -> 47.028169 | H9: 25000 | I9: =H9*C9 -> 100000 | J9: Se aleg 3 silozuri sde 50 mc
A10: 6 | B10: Transportor pentru var | C10: 4 | D10: buc. | F10: 1.5 | G10: =F10*C10 -> 6 | H10: 12500 | I10: =H10*C10 -> 50000 | J10: 3 extractoare si un transportor
A11: 7 | B11: Malaxor var - namol | C11: 1 | D11: buc. | F11: 5.5 | G11: =F11*C11 -> 5.5 | H11: 16000 | I11: =H11*C11 -> 16000 | J11: Malaxor biax
A12: 8 | B12: Transportor evacuare namol | C12: 2 | D12: buc. | F12: 2.2 | G12: =F12*C12 -> 4.4 | H12: 8200 | I12: =H12*C12 -> 16400 | J12: Trnsportor eliciodal
A13: 9 | B13: Tablou de comanda si automatizare | C13: 1 | D13: buc. | H13: 8500 | I13: =H13*C13 -> 8500
A14: 10 | B14: Cladire amenajata cu platforme de incarcare in mijloc de transport | C14: 1 | D14: buc. | H14: =500*8*10 -> 40000 | I14: =H14*C14 -> 40000 | J14: Dimensiuni de 8 x 10 m
A15: 11 | B15: Proiectare | I15: =(I9+I10+I11+I12+I13+I14)*10% -> 23090
A16: 12 | B16: Canitatea de namol evacuat | C16: =C5+C8 -> 31.135211 | D16: m3
A17: 13 | B17: Total valoare | I17: =SUM(I9:I16) -> 253990
A18: 14 | B18: Total valoare cu rotunjiri | I18: 254000
B20: Calculatie instalatia uscare | I20: 1500000
B21: Cantitatea zilnica de namol cu continut 25% SU | C21: 23 | D21: m3zi
B22: Cantitatea de substanta uscata | C22: =C6 -> 593.6 | D22: kg/zi
B23: Cladire amenajata pentru uscare namol, pompe de caldura aer-aer putere instalata 100 kW, , platforme de incarcare namol in mijloc de transport | H23: 600000
B24: Sistem fotovoltaic de producere energie electrica, | C24: 1 | D24: buc. | H24: 250000
B25: Proiectare
B26: Canitatea de namol evacuat | C26: =C22/35 -> 16.96 | D26: m3/zi
B27: Total valoare
B28: Total valoare cu rotunjiri

Sheet Apa sub 2500 LE
A2: COMUNA | B2: LOCALITATE | C2: TIP CONDUCTA | D2: LUNGIME / DIAMETRU (UM - m) | T2: LUNGIME / DIAMETRU POMPARE | X2: SP | Y2: ST | Z2: PUTURI | AA2: REZERVOR
D3: Dn 50 | E3: Dn 63 | F3: Dn 75 | G3: Dn 90 | H3: Dn 110 | I3: Dn 125 | J3: Dn 160 | K3: Dn 200 | L3: Dn 250 | M3: Dn 315 | N3: Dn 350 | O3: Dn 400 | P3: Dn 500 | Q3: Dn 600 | R3: Dn 800 | S3: Dn 1000 | T3: Dn 90 | U3: Dn 110 | V3: Dn 125 | W3: Dn 150
A4: Petresti de Jos | B4: Petresti de Jos | C4: EXTINDERE | F4: 1 | Y4: 1 ST 850 els
C5: REABILITARE
B6: Petresti de Mijloc | C6: EXTINDERE | F6: 1 | Y6: 1 ST 200 els
C7: REABILITARE
B8: Petresti de Sus | C8: EXTINDERE | F8: 1
C9: REABILITARE
B10: Deleni | C10: EXTINDERE | F10: 1 | Y10: 1 ST 350 els
C11: REABILITARE
B12: Craiesti | C12: EXTINDERE | F12: 1 | Y12: 1 ST 300 els
C13: REABILITARE
B14: Livada | C14: EXTINDERE | F14: 1 | Y14: 1 ST 300 els
C15: REABILITARE
B16: Plaiuri | C16: EXTINDERE | F16: 1 | Y16: 1 ST 250 els
C17: REABILITARE
A18: Ciurila | B18: Sutu | C18: EXTINDERE | G18: 2900 | Z18: 2 | AA18: 1x80 mc
C19: REABILITARE
B20: Padureni | C20: EXTINDERE | G20: 1900 | Z20: 2 | AA20: 1x80 mc
C21: REABILITARE
B22: Prunis | C22: EXTINDERE | G22: 3400 | Z22: 2 | AA22: 1x80 mc
C23: REABILITARE
B24: Saliste | C24: EXTINDERE | G24: 2900 | Z24: 2 | AA24: 1x80 mc
C25: REABILITARE
B26: Salicea | C26: EXTINDERE | G26: 4900 | Z26: 3 | AA26: 1x100 mc
C27: REABILITARE
B28: Ciurila | C28: EXTINDERE | G28: 7600 | Z28: 3 | AA28: 1x80 mc
C29: REABILITARE
B30: Filea de Jos | C30: EXTINDERE | G30: 3300 | Z30: 4 | AA30: 1x80 mc
C31: REABILITARE
B32: Filea de Sus | C32: EXTINDERE | G32: 3000 | Z32: 3 | AA32: 1x80 mc
C33: REABILITARE
A34: CEANU MARE | B34: Fanate | C34: EXTINDERE | G34: 0
C35: REABILITARE
B36: Strucut | C36: EXTINDERE | G36: 0
C37: REABILITARE
B38: Ciurgau | C38: EXTINDERE | G38: 0
